Package: Summix Version: 1.0.3 Command: C:\Users\biocbuild\bbs-3.13-bioc\R\bin\R.exe CMD check --force-multiarch --install=check:Summix.install-out.txt --library=C:\Users\biocbuild\bbs-3.13-bioc\R\library --no-vignettes --timings Summix_1.0.3.tar.gz StartedAt: 2021-10-15 06:19:45 -0400 (Fri, 15 Oct 2021) EndedAt: 2021-10-15 06:20:20 -0400 (Fri, 15 Oct 2021) EllapsedTime: 35.5 seconds RetCode: 0 Status: WARNINGS CheckDir: Summix.Rcheck Warnings: 1