Package: Summix Version: 1.0.3 Command: /Library/Frameworks/R.framework/Versions/Current/Resources/bin/R CMD build --keep-empty-dirs --no-resave-data Summix StartedAt: 2021-10-14 15:13:27 -0400 (Thu, 14 Oct 2021) EndedAt: 2021-10-14 15:13:38 -0400 (Thu, 14 Oct 2021) EllapsedTime: 10.7 seconds RetCode: 0 Status: OK PackageFile: Summix_1.0.3.tar.gz PackageFileSize: 428.2 KiB