Package: SubCellBarCode Version: 1.8.0 Command: C:\cygwin\bin\curl.exe -O http://155.52.207.165/BBS/3.13/bioc/src/contrib/SubCellBarCode_1.8.0.tar.gz && rm -rf SubCellBarCode.buildbin-libdir && mkdir SubCellBarCode.buildbin-libdir && C:\Users\biocbuild\bbs-3.13-bioc\R\bin\R.exe CMD INSTALL --merge-multiarch --build --library=SubCellBarCode.buildbin-libdir SubCellBarCode_1.8.0.tar.gz && C:\Users\biocbuild\bbs-3.13-bioc\R\bin\R.exe CMD INSTALL SubCellBarCode_1.8.0.zip && rm SubCellBarCode_1.8.0.tar.gz SubCellBarCode_1.8.0.zip StartedAt: 2021-10-14 09:57:15 -0400 (Thu, 14 Oct 2021) EndedAt: 2021-10-14 09:58:10 -0400 (Thu, 14 Oct 2021) EllapsedTime: 55.1 seconds RetCode: 0 Status: OK