Package: SubCellBarCode Version: 1.8.0 Command: /home/biocbuild/bbs-3.13-bioc/R/bin/R CMD build --keep-empty-dirs --no-resave-data SubCellBarCode StartedAt: 2021-10-14 08:31:50 -0400 (Thu, 14 Oct 2021) EndedAt: 2021-10-14 08:36:20 -0400 (Thu, 14 Oct 2021) EllapsedTime: 270.5 seconds RetCode: 0 Status: OK PackageFile: SubCellBarCode_1.8.0.tar.gz PackageFileSize: 2.174 MiB