Package: SplicingGraphs Version: 1.32.0 Command: /home/biocbuild/bbs-3.13-bioc/R/bin/R CMD INSTALL SplicingGraphs StartedAt: 2021-10-14 06:28:17 -0400 (Thu, 14 Oct 2021) EndedAt: 2021-10-14 06:28:55 -0400 (Thu, 14 Oct 2021) EllapsedTime: 37.7 seconds RetCode: 0 Status: OK