git_url: https://git.bioconductor.org/packages/SplicingGraphs git_branch: RELEASE_3_13 git_last_commit: 6066f74 git_last_commit_date: 2021-05-19 11:58:48 -0400 (Wed, 19 May 2021) Package: SplicingGraphs Version: 1.32.0 Maintainer: H. Pagès MaintainerEmail: hpages.on.github at gmail.com