Package: SplicingFactory Version: 1.0.3 Command: chmod a+r SplicingFactory -R && C:\Users\biocbuild\bbs-3.13-bioc\R\bin\R.exe CMD build --keep-empty-dirs --no-resave-data SplicingFactory StartedAt: 2021-10-14 18:31:29 -0400 (Thu, 14 Oct 2021) EndedAt: 2021-10-14 18:32:26 -0400 (Thu, 14 Oct 2021) EllapsedTime: 56.9 seconds RetCode: 0 Status: OK PackageFile: SplicingFactory_1.0.3.tar.gz PackageFileSize: 412.6 KiB