Package: SplicingFactory Version: 1.0.3 Command: /Library/Frameworks/R.framework/Versions/Current/Resources/bin/R CMD build --keep-empty-dirs --no-resave-data SplicingFactory StartedAt: 2021-10-14 15:08:10 -0400 (Thu, 14 Oct 2021) EndedAt: 2021-10-14 15:08:51 -0400 (Thu, 14 Oct 2021) EllapsedTime: 40.9 seconds RetCode: 0 Status: OK PackageFile: SplicingFactory_1.0.3.tar.gz PackageFileSize: 643.5 KiB