Package: SpatialDecon Version: 1.2.0 Command: rm -rf SpatialDecon.buildbin-libdir && mkdir SpatialDecon.buildbin-libdir && /Users/biocbuild/BBS/utils/build-universal.sh SpatialDecon_1.2.0.tar.gz /Library/Frameworks/R.framework/Versions/Current/Resources/bin/R SpatialDecon.buildbin-libdir StartedAt: 2021-10-15 04:04:50 -0400 (Fri, 15 Oct 2021) EndedAt: 2021-10-15 04:06:01 -0400 (Fri, 15 Oct 2021) EllapsedTime: 70.4 seconds RetCode: 0 Status: OK PackageFile: SpatialDecon_1.2.0.tgz PackageFileSize: 807.3 KiB