git_url: https://git.bioconductor.org/packages/SpatialCPie git_branch: RELEASE_3_13 git_last_commit: 13b0098 git_last_commit_date: 2021-05-19 12:40:04 -0400 (Wed, 19 May 2021) Package: SpatialCPie Version: 1.8.0 Maintainer: Joseph Bergenstraahle MaintainerEmail: joseph.bergenstrahle at gmail.com