Package: SparseSignatures Version: 2.2.0 Command: /Library/Frameworks/R.framework/Versions/Current/Resources/bin/R CMD build --keep-empty-dirs --no-resave-data SparseSignatures StartedAt: 2021-10-14 15:06:12 -0400 (Thu, 14 Oct 2021) EndedAt: 2021-10-14 15:11:38 -0400 (Thu, 14 Oct 2021) EllapsedTime: 326.2 seconds RetCode: 0 Status: OK PackageFile: SparseSignatures_2.2.0.tar.gz PackageFileSize: 973.2 KiB