git_url: https://git.bioconductor.org/packages/SpacePAC git_branch: RELEASE_3_13 git_last_commit: 9f7b13a git_last_commit_date: 2021-05-19 12:00:04 -0400 (Wed, 19 May 2021) Package: SpacePAC Version: 1.30.0 Maintainer: Gregory Ryslik MaintainerEmail: gregory.ryslik at yale.edu