Package: SomaticSignatures Version: 2.28.0 Command: /home/biocbuild/bbs-3.13-bioc/R/bin/R CMD INSTALL SomaticSignatures StartedAt: 2021-10-14 06:33:54 -0400 (Thu, 14 Oct 2021) EndedAt: 2021-10-14 06:34:43 -0400 (Thu, 14 Oct 2021) EllapsedTime: 49.0 seconds RetCode: 0 Status: OK