Package: SomaticSignatures Version: 2.28.0 Command: /Library/Frameworks/R.framework/Versions/Current/Resources/bin/R CMD INSTALL SomaticSignatures StartedAt: 2021-10-14 10:16:22 -0400 (Thu, 14 Oct 2021) EndedAt: 2021-10-14 10:17:36 -0400 (Thu, 14 Oct 2021) EllapsedTime: 74.3 seconds RetCode: 0 Status: OK