Package: SomaticSignatures Version: 2.28.0 Command: /Library/Frameworks/R.framework/Versions/Current/Resources/bin/R CMD check --install=check:SomaticSignatures.install-out.txt --library=/Library/Frameworks/R.framework/Versions/Current/Resources/library --no-vignettes --timings SomaticSignatures_2.28.0.tar.gz StartedAt: 2021-10-15 00:14:29 -0400 (Fri, 15 Oct 2021) EndedAt: 2021-10-15 00:22:55 -0400 (Fri, 15 Oct 2021) EllapsedTime: 505.5 seconds RetCode: 0 Status: OK CheckDir: SomaticSignatures.Rcheck Warnings: 0