Package: SomaticSignatures Version: 2.28.0 Command: /Library/Frameworks/R.framework/Versions/Current/Resources/bin/R CMD build --keep-empty-dirs --no-resave-data SomaticSignatures StartedAt: 2021-10-14 15:04:54 -0400 (Thu, 14 Oct 2021) EndedAt: 2021-10-14 15:07:51 -0400 (Thu, 14 Oct 2021) EllapsedTime: 177.3 seconds RetCode: 0 Status: OK PackageFile: SomaticSignatures_2.28.0.tar.gz PackageFileSize: 1.877 MiB