git_url: https://git.bioconductor.org/packages/SomaticSignatures git_branch: RELEASE_3_13 git_last_commit: 3c360f9 git_last_commit_date: 2021-05-19 12:02:45 -0400 (Wed, 19 May 2021) Package: SomaticSignatures Version: 2.28.0 Maintainer: Julian Gehring MaintainerEmail: jg-bioc at gmx.com