Package: SigsPack Version: 1.6.0 Command: /Library/Frameworks/R.framework/Versions/Current/Resources/bin/R CMD INSTALL SigsPack StartedAt: 2021-10-14 09:56:44 -0400 (Thu, 14 Oct 2021) EndedAt: 2021-10-14 09:57:08 -0400 (Thu, 14 Oct 2021) EllapsedTime: 23.7 seconds RetCode: 0 Status: OK