Package: SigCheck Version: 2.24.0 Command: /Library/Frameworks/R.framework/Versions/Current/Resources/bin/R CMD check --install=check:SigCheck.install-out.txt --library=/Library/Frameworks/R.framework/Versions/Current/Resources/library --no-vignettes --timings SigCheck_2.24.0.tar.gz StartedAt: 2021-10-15 00:00:07 -0400 (Fri, 15 Oct 2021) EndedAt: 2021-10-15 00:07:13 -0400 (Fri, 15 Oct 2021) EllapsedTime: 426.5 seconds RetCode: 0 Status: OK CheckDir: SigCheck.Rcheck Warnings: 0