git_url: https://git.bioconductor.org/packages/ShortRead git_branch: RELEASE_3_13 git_last_commit: 31dea4d git_last_commit_date: 2021-05-19 11:40:52 -0400 (Wed, 19 May 2021) Package: ShortRead Version: 1.50.0 Maintainer: Bioconductor Package Maintainer MaintainerEmail: maintainer at bioconductor.org