Package: SeqGate Version: 1.2.0 Command: /home/biocbuild/bbs-3.13-bioc/R/bin/R CMD check --install=check:SeqGate.install-out.txt --library=/home/biocbuild/bbs-3.13-bioc/R/library --no-vignettes --timings SeqGate_1.2.0.tar.gz StartedAt: 2021-10-14 11:34:55 -0400 (Thu, 14 Oct 2021) EndedAt: 2021-10-14 11:36:50 -0400 (Thu, 14 Oct 2021) EllapsedTime: 114.9 seconds RetCode: 0 Status: OK CheckDir: SeqGate.Rcheck Warnings: 0