Package: SeqArray Version: 1.32.0 Command: rm -rf SeqArray.buildbin-libdir && mkdir SeqArray.buildbin-libdir && C:\Users\biocbuild\bbs-3.13-bioc\R\bin\R.exe CMD INSTALL --merge-multiarch --build --library=SeqArray.buildbin-libdir SeqArray_1.32.0.tar.gz StartedAt: 2021-10-15 11:44:19 -0400 (Fri, 15 Oct 2021) EndedAt: 2021-10-15 11:47:08 -0400 (Fri, 15 Oct 2021) EllapsedTime: 169.3 seconds RetCode: 0 Status: OK PackageFile: SeqArray_1.32.0.zip PackageFileSize: 3.743 MiB