Package: SeqArray Version: 1.32.0 Command: /Library/Frameworks/R.framework/Versions/Current/Resources/bin/R CMD check --install=check:SeqArray.install-out.txt --library=/Library/Frameworks/R.framework/Versions/Current/Resources/library --no-vignettes --timings SeqArray_1.32.0.tar.gz StartedAt: 2021-10-14 23:52:35 -0400 (Thu, 14 Oct 2021) EndedAt: 2021-10-14 23:56:45 -0400 (Thu, 14 Oct 2021) EllapsedTime: 250.2 seconds RetCode: 0 Status: OK CheckDir: SeqArray.Rcheck Warnings: 0