Package: SemDist
Version: 1.26.0
Command: chmod a+r SemDist -R && C:\Users\biocbuild\bbs-3.13-bioc\R\bin\R.exe CMD build --keep-empty-dirs --no-resave-data SemDist
StartedAt: 2021-10-14 18:08:19 -0400 (Thu, 14 Oct 2021)
EndedAt: 2021-10-14 18:11:01 -0400 (Thu, 14 Oct 2021)
EllapsedTime: 161.8 seconds
RetCode: 0
Status: OK
PackageFile: SemDist_1.26.0.tar.gz
PackageFileSize: 1.881 <A href="http://en.wikipedia.org/wiki/MiB" target="_blank">MiB</A>