Package: SemDist Version: 1.26.0 Command: /Library/Frameworks/R.framework/Versions/Current/Resources/bin/R CMD build --keep-empty-dirs --no-resave-data SemDist StartedAt: 2021-10-14 14:50:05 -0400 (Thu, 14 Oct 2021) EndedAt: 2021-10-14 14:50:51 -0400 (Thu, 14 Oct 2021) EllapsedTime: 46.5 seconds RetCode: 0 Status: OK PackageFile: SemDist_1.26.0.tar.gz PackageFileSize: 1.863 MiB