Package: SemDist Version: 1.26.0 Command: rm -rf SemDist.buildbin-libdir && mkdir SemDist.buildbin-libdir && /Users/biocbuild/BBS/utils/build-universal.sh SemDist_1.26.0.tar.gz /Library/Frameworks/R.framework/Versions/Current/Resources/bin/R SemDist.buildbin-libdir StartedAt: 2021-10-15 03:57:07 -0400 (Fri, 15 Oct 2021) EndedAt: 2021-10-15 03:58:06 -0400 (Fri, 15 Oct 2021) EllapsedTime: 58.4 seconds RetCode: 0 Status: OK PackageFile: SemDist_1.26.0.tgz PackageFileSize: 1.901 MiB