Package: ScaledMatrix Version: 1.0.0 Command: /home/biocbuild/bbs-3.13-bioc/R/bin/R CMD build --keep-empty-dirs --no-resave-data ScaledMatrix StartedAt: 2021-10-14 08:18:25 -0400 (Thu, 14 Oct 2021) EndedAt: 2021-10-14 08:21:12 -0400 (Thu, 14 Oct 2021) EllapsedTime: 167.3 seconds RetCode: 0 Status: OK PackageFile: ScaledMatrix_1.0.0.tar.gz PackageFileSize: 290.7 KiB