Package: ScaledMatrix Version: 1.0.0 Command: rm -rf ScaledMatrix.buildbin-libdir && mkdir ScaledMatrix.buildbin-libdir && /Users/biocbuild/BBS/utils/build-universal.sh ScaledMatrix_1.0.0.tar.gz /Library/Frameworks/R.framework/Versions/Current/Resources/bin/R ScaledMatrix.buildbin-libdir StartedAt: 2021-10-15 03:52:45 -0400 (Fri, 15 Oct 2021) EndedAt: 2021-10-15 03:53:49 -0400 (Fri, 15 Oct 2021) EllapsedTime: 64.0 seconds RetCode: 0 Status: OK PackageFile: ScaledMatrix_1.0.0.tgz PackageFileSize: 563.7 KiB