Package: ScISI Version: 1.64.0 Command: /home/biocbuild/bbs-3.13-bioc/R/bin/R CMD check --install=check:ScISI.install-out.txt --library=/home/biocbuild/bbs-3.13-bioc/R/library --no-vignettes --timings ScISI_1.64.0.tar.gz StartedAt: 2021-10-14 11:31:00 -0400 (Thu, 14 Oct 2021) EndedAt: 2021-10-14 11:32:54 -0400 (Thu, 14 Oct 2021) EllapsedTime: 113.5 seconds RetCode: 0 Status: OK CheckDir: ScISI.Rcheck Warnings: 0