Package: ScISI Version: 1.64.0 Command: rm -rf ScISI.buildbin-libdir && mkdir ScISI.buildbin-libdir && /Users/biocbuild/BBS/utils/build-universal.sh ScISI_1.64.0.tar.gz /Library/Frameworks/R.framework/Versions/Current/Resources/bin/R ScISI.buildbin-libdir StartedAt: 2021-10-15 03:54:41 -0400 (Fri, 15 Oct 2021) EndedAt: 2021-10-15 03:55:41 -0400 (Fri, 15 Oct 2021) EllapsedTime: 60.1 seconds RetCode: 0 Status: OK PackageFile: ScISI_1.64.0.tgz PackageFileSize: 2.182 MiB