git_url: https://git.bioconductor.org/packages/ScISI git_branch: RELEASE_3_13 git_last_commit: 1ee59b4 git_last_commit_date: 2021-05-19 11:36:57 -0400 (Wed, 19 May 2021) Package: ScISI Version: 1.64.0 Maintainer: Tony Chiang MaintainerEmail: tchiang at fhcrc.org