Package: STROMA4 Version: 1.16.0 Command: /home/biocbuild/bbs-3.13-bioc/R/bin/R CMD INSTALL STROMA4 StartedAt: 2021-10-14 06:05:17 -0400 (Thu, 14 Oct 2021) EndedAt: 2021-10-14 06:05:21 -0400 (Thu, 14 Oct 2021) EllapsedTime: 4.5 seconds RetCode: 0 Status: OK