Package: STROMA4 Version: 1.16.0 Command: /home/biocbuild/bbs-3.13-bioc/R/bin/R CMD build --keep-empty-dirs --no-resave-data STROMA4 StartedAt: 2021-10-14 08:31:35 -0400 (Thu, 14 Oct 2021) EndedAt: 2021-10-14 08:31:51 -0400 (Thu, 14 Oct 2021) EllapsedTime: 15.7 seconds RetCode: 0 Status: OK PackageFile: STROMA4_1.16.0.tar.gz PackageFileSize: 148.2 KiB