Package: STRINGdb Version: 2.4.2 Command: chmod a+r STRINGdb -R && C:\Users\biocbuild\bbs-3.13-bioc\R\bin\R.exe CMD build --keep-empty-dirs --no-resave-data STRINGdb StartedAt: 2021-10-14 18:36:20 -0400 (Thu, 14 Oct 2021) EndedAt: 2021-10-14 18:39:54 -0400 (Thu, 14 Oct 2021) EllapsedTime: 213.6 seconds RetCode: 0 Status: OK PackageFile: STRINGdb_2.4.2.tar.gz PackageFileSize: 8.631 MiB