Package: STRINGdb Version: 2.4.2 Command: /home/biocbuild/bbs-3.13-bioc/R/bin/R CMD build --keep-empty-dirs --no-resave-data STRINGdb StartedAt: 2021-10-14 08:31:34 -0400 (Thu, 14 Oct 2021) EndedAt: 2021-10-14 08:35:42 -0400 (Thu, 14 Oct 2021) EllapsedTime: 247.6 seconds RetCode: 0 Status: OK PackageFile: STRINGdb_2.4.2.tar.gz PackageFileSize: 8.63 MiB