git_url: https://git.bioconductor.org/packages/STRINGdb git_branch: RELEASE_3_13 git_last_commit: 38baec2 git_last_commit_date: 2021-09-17 11:53:56 -0400 (Fri, 17 Sep 2021) Package: STRINGdb Version: 2.4.2 Maintainer: Damian Szklarczyk MaintainerEmail: damian.szklarczyk at imls.uzh.ch