git_url: https://git.bioconductor.org/packages/SRGnet git_branch: RELEASE_3_13 git_last_commit: d4da66d git_last_commit_date: 2021-05-19 12:20:53 -0400 (Wed, 19 May 2021) Package: SRGnet Version: 1.18.0 Maintainer: Isar Nassiri MaintainerEmail: isar_nassiri at urmc.rochester.edu