Package: SQLDataFrame Version: 1.6.0 Command: /home/biocbuild/bbs-3.13-bioc/R/bin/R CMD check --install=check:SQLDataFrame.install-out.txt --library=/home/biocbuild/bbs-3.13-bioc/R/library --no-vignettes --timings SQLDataFrame_1.6.0.tar.gz StartedAt: 2021-10-14 11:44:36 -0400 (Thu, 14 Oct 2021) EndedAt: 2021-10-14 11:45:49 -0400 (Thu, 14 Oct 2021) EllapsedTime: 72.5 seconds RetCode: 0 Status: WARNINGS CheckDir: SQLDataFrame.Rcheck Warnings: 1