Package: SPIA Version: 2.44.0 Command: chmod a+r SPIA -R && C:\Users\biocbuild\bbs-3.13-bioc\R\bin\R.exe CMD build --keep-empty-dirs --no-resave-data SPIA StartedAt: 2021-10-14 18:30:26 -0400 (Thu, 14 Oct 2021) EndedAt: 2021-10-14 18:35:54 -0400 (Thu, 14 Oct 2021) EllapsedTime: 327.8 seconds RetCode: 0 Status: OK PackageFile: SPIA_2.44.0.tar.gz PackageFileSize: 2.481 MiB