Package: SNPhood Version: 1.22.0 Command: C:\Users\biocbuild\bbs-3.13-bioc\R\bin\R.exe CMD check --force-multiarch --install=check:SNPhood.install-out.txt --library=C:\Users\biocbuild\bbs-3.13-bioc\R\library --no-vignettes --timings SNPhood_1.22.0.tar.gz StartedAt: 2021-10-15 05:55:41 -0400 (Fri, 15 Oct 2021) EndedAt: 2021-10-15 06:09:39 -0400 (Fri, 15 Oct 2021) EllapsedTime: 838.8 seconds RetCode: 0 Status: OK CheckDir: SNPhood.Rcheck Warnings: 0