Package: SNPRelate Version: 1.26.0 Command: /Library/Frameworks/R.framework/Versions/Current/Resources/bin/R CMD INSTALL SNPRelate StartedAt: 2021-10-14 08:19:09 -0400 (Thu, 14 Oct 2021) EndedAt: 2021-10-14 08:20:06 -0400 (Thu, 14 Oct 2021) EllapsedTime: 57.7 seconds RetCode: 0 Status: OK