Package: SMAP Version: 1.56.0 Command: rm -rf SMAP.buildbin-libdir && mkdir SMAP.buildbin-libdir && /Users/biocbuild/BBS/utils/build-universal.sh SMAP_1.56.0.tar.gz /Library/Frameworks/R.framework/Versions/Current/Resources/bin/R SMAP.buildbin-libdir StartedAt: 2021-10-15 04:02:53 -0400 (Fri, 15 Oct 2021) EndedAt: 2021-10-15 04:04:02 -0400 (Fri, 15 Oct 2021) EllapsedTime: 69.7 seconds RetCode: 0 Status: OK PackageFile: SMAP_1.56.0.tgz PackageFileSize: 4.519 MiB