Package: SMAD Version: 1.8.0 Command: chmod a+r SMAD -R && C:\Users\biocbuild\bbs-3.13-bioc\R\bin\R.exe CMD build --keep-empty-dirs --no-resave-data SMAD StartedAt: 2021-10-14 18:24:49 -0400 (Thu, 14 Oct 2021) EndedAt: 2021-10-14 18:25:35 -0400 (Thu, 14 Oct 2021) EllapsedTime: 45.3 seconds RetCode: 0 Status: OK PackageFile: SMAD_1.8.0.tar.gz PackageFileSize: 360.4 KiB