git_url: https://git.bioconductor.org/packages/SMAD git_branch: RELEASE_3_13 git_last_commit: 5591339 git_last_commit_date: 2021-05-19 12:40:44 -0400 (Wed, 19 May 2021) Package: SMAD Version: 1.8.0 Maintainer: Qingzhou Zhang MaintainerEmail: zqzneptune at hotmail.com