git_url: https://git.bioconductor.org/packages/SLqPCR git_branch: RELEASE_3_13 git_last_commit: b95b1ed git_last_commit_date: 2021-05-19 11:38:54 -0400 (Wed, 19 May 2021) Package: SLqPCR Version: 1.58.0 Maintainer: Matthias Kohl MaintainerEmail: kohl at sirs-lab.com