git_url: https://git.bioconductor.org/packages/SIMLR git_branch: RELEASE_3_13 git_last_commit: e3f8bf7 git_last_commit_date: 2021-05-19 12:23:15 -0400 (Wed, 19 May 2021) Package: SIMLR Version: 1.18.0 Maintainer: Luca De Sano MaintainerEmail: luca.desano at gmail.com