Package: SIMAT Version: 1.24.0 Command: chmod a+r SIMAT -R && C:\Users\biocbuild\bbs-3.13-bioc\R\bin\R.exe CMD build --keep-empty-dirs --no-resave-data SIMAT StartedAt: 2021-10-14 18:19:28 -0400 (Thu, 14 Oct 2021) EndedAt: 2021-10-14 18:20:20 -0400 (Thu, 14 Oct 2021) EllapsedTime: 51.9 seconds RetCode: 0 Status: OK PackageFile: SIMAT_1.24.0.tar.gz PackageFileSize: 1.014 MiB