Package: SIAMCAT Version: 1.12.0 Command: chmod a+r SIAMCAT -R && C:\Users\biocbuild\bbs-3.13-bioc\R\bin\R.exe CMD build --keep-empty-dirs --no-resave-data SIAMCAT StartedAt: 2021-10-14 18:17:26 -0400 (Thu, 14 Oct 2021) EndedAt: 2021-10-14 18:21:47 -0400 (Thu, 14 Oct 2021) EllapsedTime: 261.3 seconds RetCode: 0 Status: OK PackageFile: SIAMCAT_1.12.0.tar.gz PackageFileSize: 18.89 MiB