Package: SIAMCAT Version: 1.12.0 Command: rm -rf SIAMCAT.buildbin-libdir && mkdir SIAMCAT.buildbin-libdir && C:\Users\biocbuild\bbs-3.13-bioc\R\bin\R.exe CMD INSTALL --merge-multiarch --build --library=SIAMCAT.buildbin-libdir SIAMCAT_1.12.0.tar.gz StartedAt: 2021-10-15 11:47:33 -0400 (Fri, 15 Oct 2021) EndedAt: 2021-10-15 11:48:51 -0400 (Fri, 15 Oct 2021) EllapsedTime: 78.0 seconds RetCode: 0 Status: OK PackageFile: SIAMCAT_1.12.0.zip PackageFileSize: 10.77 MiB