Package: SIAMCAT Version: 1.12.0 Command: /Library/Frameworks/R.framework/Versions/Current/Resources/bin/R CMD check --install=check:SIAMCAT.install-out.txt --library=/Library/Frameworks/R.framework/Versions/Current/Resources/library --no-vignettes --timings SIAMCAT_1.12.0.tar.gz StartedAt: 2021-10-14 23:59:06 -0400 (Thu, 14 Oct 2021) EndedAt: 2021-10-15 00:03:11 -0400 (Fri, 15 Oct 2021) EllapsedTime: 244.8 seconds RetCode: 0 Status: OK CheckDir: SIAMCAT.Rcheck Warnings: 0